BEGIN:VCALENDAR
VERSION:2.0
PRODID:-//Siren Water Treatment - ECPv6.15.20//NONSGML v1.0//EN
CALSCALE:GREGORIAN
METHOD:PUBLISH
X-WR-CALNAME:Siren Water Treatment
X-ORIGINAL-URL:https://sirenwatertreatment.co.uk
X-WR-CALDESC:Events for Siren Water Treatment
REFRESH-INTERVAL;VALUE=DURATION:PT1H
X-Robots-Tag:noindex
X-PUBLISHED-TTL:PT1H
BEGIN:VTIMEZONE
TZID:UTC
BEGIN:STANDARD
TZOFFSETFROM:+0000
TZOFFSETTO:+0000
TZNAME:UTC
DTSTART:20210101T000000
END:STANDARD
END:VTIMEZONE
BEGIN:VEVENT
DTSTART;TZID=UTC:20221209T080000
DTEND;TZID=UTC:20221209T170000
DTSTAMP:20260423T163638
CREATED:20221127T205815Z
LAST-MODIFIED:20221127T205815Z
UID:4871-1670572800-1670605200@sirenwatertreatment.co.uk
SUMMARY:301: In-depth Exploration of Different Control Valves
DESCRIPTION:
URL:https://sirenwatertreatment.co.uk/event/301-in-depth-exploration-of-different-control-valves-4/
LOCATION:Riverside Offices\, Congleton\, Cheshire
CATEGORIES:Water Softener Training
END:VEVENT
BEGIN:VEVENT
DTSTART;TZID=UTC:20221202T080000
DTEND;TZID=UTC:20221202T170000
DTSTAMP:20260423T163638
CREATED:20221127T205724Z
LAST-MODIFIED:20221127T205724Z
UID:4869-1669968000-1670000400@sirenwatertreatment.co.uk
SUMMARY:201: Advanced Water Softeners
DESCRIPTION:
URL:https://sirenwatertreatment.co.uk/event/201-advanced-water-softeners-7/
LOCATION:Riverside Offices\, Congleton\, Cheshire
CATEGORIES:Water Softener Training
ORGANIZER;CN="Gary Hough":MAILTO:gary@sirenwatertreatment.co.uk
END:VEVENT
BEGIN:VEVENT
DTSTART;TZID=UTC:20221201T090000
DTEND;TZID=UTC:20221201T170000
DTSTAMP:20260423T163638
CREATED:20221127T205655Z
LAST-MODIFIED:20221127T205655Z
UID:4867-1669885200-1669914000@sirenwatertreatment.co.uk
SUMMARY:101: The Fundamentals of Water Softeners
DESCRIPTION:
URL:https://sirenwatertreatment.co.uk/event/101-the-fundamentals-of-water-softeners-7/
LOCATION:Riverside Offices\, Congleton\, Cheshire
CATEGORIES:Water Softener Training
ATTACH;FMTTYPE=image/jpeg:https://sirenwatertreatment.co.uk/wp-content/uploads/2022/02/Fleck-3150-XXX-Pentaplex-System-scaled.jpg
ORGANIZER;CN="Siren Water Treatment":MAILTO:info@sirenwatertreatment.co.uk
END:VEVENT
BEGIN:VEVENT
DTSTART;TZID=UTC:20220815T090000
DTEND;TZID=UTC:20220815T170000
DTSTAMP:20260423T163638
CREATED:20220505T090716Z
LAST-MODIFIED:20220815T124732Z
UID:4679-1660554000-1660582800@sirenwatertreatment.co.uk
SUMMARY:101: The Fundamentals of Water Softeners
DESCRIPTION:
URL:https://sirenwatertreatment.co.uk/event/101-the-fundamentals-of-water-softeners-6/
LOCATION:Riverside Offices\, Congleton\, Cheshire
CATEGORIES:Water Softener Training
ATTACH;FMTTYPE=image/jpeg:https://sirenwatertreatment.co.uk/wp-content/uploads/2022/02/Fleck-3150-XXX-Pentaplex-System-scaled.jpg
ORGANIZER;CN="Siren Water Treatment":MAILTO:info@sirenwatertreatment.co.uk
END:VEVENT
BEGIN:VEVENT
DTSTART;TZID=UTC:20220708T080000
DTEND;TZID=UTC:20220708T170000
DTSTAMP:20260423T163638
CREATED:20220505T090739Z
LAST-MODIFIED:20220505T090739Z
UID:4681-1657267200-1657299600@sirenwatertreatment.co.uk
SUMMARY:201: Advanced Water Softeners
DESCRIPTION:
URL:https://sirenwatertreatment.co.uk/event/201-advanced-water-softeners-6/
LOCATION:Riverside Offices\, Congleton\, Cheshire
CATEGORIES:Water Softener Training
ORGANIZER;CN="Gary Hough":MAILTO:gary@sirenwatertreatment.co.uk
END:VEVENT
BEGIN:VEVENT
DTSTART;TZID=UTC:20220624T080000
DTEND;TZID=UTC:20220624T170000
DTSTAMP:20260423T163638
CREATED:20220207T193135Z
LAST-MODIFIED:20221127T210540Z
UID:3361-1656057600-1656090000@sirenwatertreatment.co.uk
SUMMARY:201: Advanced Water Softeners
DESCRIPTION:
URL:https://sirenwatertreatment.co.uk/event/201-advanced-water-softeners/
LOCATION:Riverside Offices\, Congleton\, Cheshire
CATEGORIES:Water Softener Training
ORGANIZER;CN="Gary Hough":MAILTO:gary@sirenwatertreatment.co.uk
END:VEVENT
BEGIN:VEVENT
DTSTART;TZID=UTC:20220623T090000
DTEND;TZID=UTC:20220623T170000
DTSTAMP:20260423T163638
CREATED:20220206T113956Z
LAST-MODIFIED:20220510T095731Z
UID:3291-1655974800-1656003600@sirenwatertreatment.co.uk
SUMMARY:101: The Fundamentals of Water Softeners
DESCRIPTION:
URL:https://sirenwatertreatment.co.uk/event/101-the-fundamentals-of-water-softeners/
LOCATION:Riverside Offices\, Congleton\, Cheshire
CATEGORIES:Water Softener Training
ATTACH;FMTTYPE=image/jpeg:https://sirenwatertreatment.co.uk/wp-content/uploads/2022/02/Fleck-3150-XXX-Pentaplex-System-scaled.jpg
ORGANIZER;CN="Gary Hough":MAILTO:gary@sirenwatertreatment.co.uk
END:VEVENT
BEGIN:VEVENT
DTSTART;TZID=UTC:20220607T080000
DTEND;TZID=UTC:20220607T170000
DTSTAMP:20260423T163638
CREATED:20220412T080643Z
LAST-MODIFIED:20220425T191840Z
UID:4667-1654588800-1654621200@sirenwatertreatment.co.uk
SUMMARY:201: Advanced Water Softeners
DESCRIPTION:
URL:https://sirenwatertreatment.co.uk/event/201-advanced-water-softeners-4/
LOCATION:Riverside Offices\, Congleton\, Cheshire
CATEGORIES:Water Softener Training
ORGANIZER;CN="Gary Hough":MAILTO:gary@sirenwatertreatment.co.uk
END:VEVENT
BEGIN:VEVENT
DTSTART;TZID=UTC:20220606T090000
DTEND;TZID=UTC:20220606T170000
DTSTAMP:20260423T163638
CREATED:20220412T080619Z
LAST-MODIFIED:20220425T155648Z
UID:4665-1654506000-1654534800@sirenwatertreatment.co.uk
SUMMARY:101: The Fundamentals of Water Softeners
DESCRIPTION:
URL:https://sirenwatertreatment.co.uk/event/101-the-fundamentals-of-water-softeners-4/
LOCATION:Riverside Offices\, Congleton\, Cheshire
CATEGORIES:Water Softener Training
ATTACH;FMTTYPE=image/jpeg:https://sirenwatertreatment.co.uk/wp-content/uploads/2022/02/Fleck-3150-XXX-Pentaplex-System-scaled.jpg
ORGANIZER;CN="Gary Hough":MAILTO:gary@sirenwatertreatment.co.uk
END:VEVENT
BEGIN:VEVENT
DTSTART;TZID=UTC:20220527T080000
DTEND;TZID=UTC:20220527T170000
DTSTAMP:20260423T163638
CREATED:20220505T090529Z
LAST-MODIFIED:20220505T090537Z
UID:4677-1653638400-1653670800@sirenwatertreatment.co.uk
SUMMARY:301: In-depth Exploration of Different Control Valves
DESCRIPTION:
URL:https://sirenwatertreatment.co.uk/event/301-in-depth-exploration-of-different-control-valves-3/
LOCATION:Riverside Offices\, Congleton\, Cheshire
CATEGORIES:Water Softener Training
END:VEVENT
BEGIN:VEVENT
DTSTART;TZID=UTC:20220526T080000
DTEND;TZID=UTC:20220526T170000
DTSTAMP:20260423T163638
CREATED:20220505T090442Z
LAST-MODIFIED:20220505T090442Z
UID:4675-1653552000-1653584400@sirenwatertreatment.co.uk
SUMMARY:201: Advanced Water Softeners
DESCRIPTION:
URL:https://sirenwatertreatment.co.uk/event/201-advanced-water-softeners-5/
LOCATION:Riverside Offices\, Congleton\, Cheshire
CATEGORIES:Water Softener Training
ORGANIZER;CN="Gary Hough":MAILTO:gary@sirenwatertreatment.co.uk
END:VEVENT
BEGIN:VEVENT
DTSTART;TZID=UTC:20220525T090000
DTEND;TZID=UTC:20220525T170000
DTSTAMP:20260423T163638
CREATED:20220505T090409Z
LAST-MODIFIED:20220505T090409Z
UID:4673-1653469200-1653498000@sirenwatertreatment.co.uk
SUMMARY:101: The Fundamentals of Water Softeners
DESCRIPTION:
URL:https://sirenwatertreatment.co.uk/event/101-the-fundamentals-of-water-softeners-5/
LOCATION:Riverside Offices\, Congleton\, Cheshire
CATEGORIES:Water Softener Training
ATTACH;FMTTYPE=image/jpeg:https://sirenwatertreatment.co.uk/wp-content/uploads/2022/02/Fleck-3150-XXX-Pentaplex-System-scaled.jpg
ORGANIZER;CN="Gary Hough":MAILTO:gary@sirenwatertreatment.co.uk
END:VEVENT
BEGIN:VEVENT
DTSTART;TZID=UTC:20220429T080000
DTEND;TZID=UTC:20220429T170000
DTSTAMP:20260423T163638
CREATED:20220325T141509Z
LAST-MODIFIED:20220325T141509Z
UID:4661-1651219200-1651251600@sirenwatertreatment.co.uk
SUMMARY:201: Advanced Water Softeners
DESCRIPTION:
URL:https://sirenwatertreatment.co.uk/event/201-advanced-water-softeners-3/
LOCATION:Riverside Offices\, Congleton\, Cheshire
CATEGORIES:Water Softener Training
ORGANIZER;CN="Gary Hough":MAILTO:gary@sirenwatertreatment.co.uk
END:VEVENT
BEGIN:VEVENT
DTSTART;TZID=UTC:20220428T090000
DTEND;TZID=UTC:20220428T170000
DTSTAMP:20260423T163638
CREATED:20220325T141444Z
LAST-MODIFIED:20220325T141444Z
UID:4659-1651136400-1651165200@sirenwatertreatment.co.uk
SUMMARY:101: The Fundamentals of Water Softeners
DESCRIPTION:
URL:https://sirenwatertreatment.co.uk/event/101-the-fundamentals-of-water-softeners-3/
LOCATION:Riverside Offices\, Congleton\, Cheshire
CATEGORIES:Water Softener Training
ATTACH;FMTTYPE=image/jpeg:https://sirenwatertreatment.co.uk/wp-content/uploads/2022/02/Fleck-3150-XXX-Pentaplex-System-scaled.jpg
ORGANIZER;CN="Gary Hough":MAILTO:gary@sirenwatertreatment.co.uk
END:VEVENT
BEGIN:VEVENT
DTSTART;TZID=UTC:20220422T080000
DTEND;TZID=UTC:20220422T170000
DTSTAMP:20260423T163638
CREATED:20220325T141410Z
LAST-MODIFIED:20220325T141410Z
UID:4657-1650614400-1650646800@sirenwatertreatment.co.uk
SUMMARY:301: In-depth Exploration of Different Control Valves
DESCRIPTION:
URL:https://sirenwatertreatment.co.uk/event/301-in-depth-exploration-of-different-control-valves-2/
LOCATION:Riverside Offices\, Congleton\, Cheshire
CATEGORIES:Water Softener Training
END:VEVENT
BEGIN:VEVENT
DTSTART;TZID=UTC:20220421T080000
DTEND;TZID=UTC:20220421T170000
DTSTAMP:20260423T163638
CREATED:20220325T141341Z
LAST-MODIFIED:20220325T141341Z
UID:4655-1650528000-1650560400@sirenwatertreatment.co.uk
SUMMARY:201: Advanced Water Softeners
DESCRIPTION:
URL:https://sirenwatertreatment.co.uk/event/201-advanced-water-softeners-2/
LOCATION:Riverside Offices\, Congleton\, Cheshire
CATEGORIES:Water Softener Training
ORGANIZER;CN="Gary Hough":MAILTO:gary@sirenwatertreatment.co.uk
END:VEVENT
BEGIN:VEVENT
DTSTART;TZID=UTC:20220420T090000
DTEND;TZID=UTC:20220420T170000
DTSTAMP:20260423T163638
CREATED:20220325T141310Z
LAST-MODIFIED:20220325T141310Z
UID:4653-1650445200-1650474000@sirenwatertreatment.co.uk
SUMMARY:101: The Fundamentals of Water Softeners
DESCRIPTION:
URL:https://sirenwatertreatment.co.uk/event/101-the-fundamentals-of-water-softeners-2/
LOCATION:Riverside Offices\, Congleton\, Cheshire
CATEGORIES:Water Softener Training
ATTACH;FMTTYPE=image/jpeg:https://sirenwatertreatment.co.uk/wp-content/uploads/2022/02/Fleck-3150-XXX-Pentaplex-System-scaled.jpg
ORGANIZER;CN="Gary Hough":MAILTO:gary@sirenwatertreatment.co.uk
END:VEVENT
BEGIN:VEVENT
DTSTART;TZID=UTC:20220401T080000
DTEND;TZID=UTC:20220401T170000
DTSTAMP:20260423T163638
CREATED:20220207T193315Z
LAST-MODIFIED:20220316T100509Z
UID:3364-1648800000-1648832400@sirenwatertreatment.co.uk
SUMMARY:301: In-depth Exploration of Different Control Valves
DESCRIPTION:
URL:https://sirenwatertreatment.co.uk/event/301-in-depth-exploration-of-different-control-valves/
LOCATION:Riverside Offices\, Congleton\, Cheshire
CATEGORIES:Water Softener Training
END:VEVENT
END:VCALENDAR